BEGIN:VCALENDAR
VERSION:2.0
PRODID:-//GreenUp - ECPv6.15.20//NONSGML v1.0//EN
CALSCALE:GREGORIAN
METHOD:PUBLISH
X-ORIGINAL-URL:https://green-up.ch
X-WR-CALDESC:Events for GreenUp
REFRESH-INTERVAL;VALUE=DURATION:PT1H
X-Robots-Tag:noindex
X-PUBLISHED-TTL:PT1H
BEGIN:VTIMEZONE
TZID:UTC
BEGIN:STANDARD
TZOFFSETFROM:+0000
TZOFFSETTO:+0000
TZNAME:UTC
DTSTART:20230101T000000
END:STANDARD
END:VTIMEZONE
BEGIN:VEVENT
DTSTART;TZID=UTC:20240704T170000
DTEND;TZID=UTC:20240704T200000
DTSTAMP:20260422T001358
CREATED:20240626T120734Z
LAST-MODIFIED:20240626T123148Z
UID:16317-1720112400-1720123200@green-up.ch
SUMMARY:Ateliers Zero Waste & Upcycling
DESCRIPTION:Come and give zero waste and upcycling a try with GreenUp at our fun\, hands on workshops! \nWhere: Le Silo\nDate: Thursday\, July 4\, 2024\nTime: 5-8pm \nWorkshop 1: create your own dishwasher powder\nWorkshop 2: upcycle an old t-shirt* into a bag \nCome and enjoy special EURO2024 focaccias at Le Silo\, and other surprises from the Studio – Concept Store.\nPlus … a competition is also waiting for you! \n*T-shirts supplied by Troc-store La Chaux-de-Fonds
URL:https://green-up.ch/event/ateliers-zero-waste-upcycling/
LOCATION:Le Silo\, La Chaux-de-Fonds
ATTACH;FMTTYPE=image/png:https://green-up.ch/wp-content/uploads/2024/06/Zero-Waste-La-Tchaux.png
END:VEVENT
END:VCALENDAR